BEGIN:VCALENDAR
VERSION:2.0
PRODID:-//Homens com Honra - Brasil - ECPv6.1.3//NONSGML v1.0//EN
CALSCALE:GREGORIAN
METHOD:PUBLISH
X-ORIGINAL-URL:https://homenscomhonra.com.br
X-WR-CALDESC:Eventos para Homens com Honra - Brasil
REFRESH-INTERVAL;VALUE=DURATION:PT1H
X-Robots-Tag:noindex
X-PUBLISHED-TTL:PT1H
BEGIN:VTIMEZONE
TZID:UTC
BEGIN:STANDARD
TZOFFSETFROM:+0000
TZOFFSETTO:+0000
TZNAME:UTC
DTSTART:20170101T000000
END:STANDARD
TZID:America/Sao_Paulo
BEGIN:STANDARD
TZOFFSETFROM:-0200
TZOFFSETTO:-0300
TZNAME:-03
DTSTART:20150222T020000
END:STANDARD
BEGIN:DAYLIGHT
TZOFFSETFROM:-0300
TZOFFSETTO:-0200
TZNAME:-02
DTSTART:20151018T030000
END:DAYLIGHT
BEGIN:STANDARD
TZOFFSETFROM:-0200
TZOFFSETTO:-0300
TZNAME:-03
DTSTART:20160221T020000
END:STANDARD
BEGIN:DAYLIGHT
TZOFFSETFROM:-0300
TZOFFSETTO:-0200
TZNAME:-02
DTSTART:20161016T030000
END:DAYLIGHT
BEGIN:STANDARD
TZOFFSETFROM:-0200
TZOFFSETTO:-0300
TZNAME:-03
DTSTART:20170219T020000
END:STANDARD
BEGIN:DAYLIGHT
TZOFFSETFROM:-0300
TZOFFSETTO:-0200
TZNAME:-02
DTSTART:20171015T030000
END:DAYLIGHT
END:VTIMEZONE
BEGIN:VEVENT
DTSTART;TZID=UTC:20190817T083000
DTEND;TZID=UTC:20190817T173000
DTSTAMP:20260419T045355
CREATED:20190507T231754Z
LAST-MODIFIED:20190808T114816Z
UID:2003-1566030600-1566063000@homenscomhonra.com.br
SUMMARY:8° ENCONTRO DE HOMENS COM HONRA DE JUNDIAÍ - SP
DESCRIPTION:TEMA DO ENCONTRO: IDENTIDADE\nO 8º Encontro Homens Com Honra de Jundiaí contará com a presença dos preletores: \nJORGE NISHIMURA\nPresidente da UDF (Universidade da Família) \nPAUL COLE\nPresidente do CMN (Christian Men’s Network) \nCLÉSIO PENA\nPresidente do Homens Com Honra \nValor:\nInscrições realizadas de 01/05 até 11/07 – R$ 60\,00 \nInscrições realizadas de 12/07 até 12/08 – R$ 70\,00 \nNão haverá inscrições no dia do evento.\nNo valor já estão inclusos café da manhã\, almoço e estacionamento. \nINSCRIÇÕES ENCERRADAS. INGRESSOS ESGOTADOS
URL:https://homenscomhonra.com.br/eventos/8-encontro-de-homens-com-honra-jundiaisp/
LOCATION:Parque da Uva Jundiaí\, Av. Jundiaí\, s/n\, Jundiaí\, São Paulo\, 13208051\, Brasil
ATTACH;FMTTYPE=image/png:https://homenscomhonra.com.br/wp-content/uploads/2019/05/cartaz-site.png
ORGANIZER;CN="Homens%20com%20Honra":MAILTO:contato@homenscomhonra.com.br
END:VEVENT
BEGIN:VEVENT
DTSTART;TZID=UTC:20190518T080000
DTEND;TZID=UTC:20190518T080000
DTSTAMP:20260419T045355
CREATED:20190319T221931Z
LAST-MODIFIED:20190507T234019Z
UID:1951-1558166400-1558166400@homenscomhonra.com.br
SUMMARY:11º ENCONTRO DE HOMENS COM HONRA DE ARARAS
DESCRIPTION:Convidamos a todos os Homens a participarem deste evento maravilhoso que será realizado em ARARAS\, no dia 18/05/2019 das 08h as 17h. \nO evento será realizado no Clube da Saudade de Araras. \nCofee Break\, Almoço\, Café da Manhã e Estacionamento inclusos com a compra do ingresso. \nPreletores:\n– Clesio Pena\n– Harold Walker\n– Pastor Cleber Alho
URL:https://homenscomhonra.com.br/eventos/11o-encontro-de-homens-com-honra-de-araras/
LOCATION:Clube da Saudade de Araras\, Rua Ângelo Franzini\, 2580\, Araras\, São Paulo\, 13609390\, Brasil
ORGANIZER;CN="Homens%20Com%20Honra%20Araras":MAILTO:lcarvalh0@terra.com.br
END:VEVENT
BEGIN:VEVENT
DTSTART;TZID=UTC:20180818T083000
DTEND;TZID=UTC:20180818T180000
DTSTAMP:20260419T045355
CREATED:20180504T211443Z
LAST-MODIFIED:20180508T193115Z
UID:1937-1534581000-1534615200@homenscomhonra.com.br
SUMMARY:7º Encontro Homens com Honra de Jundiaí
DESCRIPTION:
URL:https://homenscomhonra.com.br/eventos/7o-encontro-homens-com-honra-de-jundiai/
LOCATION:Parque da Uva Jundiaí\, Av. Jundiaí\, s/n\, Jundiaí\, São Paulo\, 13208051\, Brasil
ORGANIZER;CN="Homens%20com%20Honra":MAILTO:contato@homenscomhonra.com.br
END:VEVENT
BEGIN:VEVENT
DTSTART;TZID=UTC:20180421T083000
DTEND;TZID=UTC:20180421T170000
DTSTAMP:20260419T045355
CREATED:20180209T123952Z
LAST-MODIFIED:20180209T124758Z
UID:1912-1524299400-1524330000@homenscomhonra.com.br
SUMMARY:10º Encontro Homens com Honra de Araras
DESCRIPTION:Idade permitida à partir de 13 anos \nPRELETORES\nHarold Walker\nÂngelo Bazzo\nAndré Nunes \nCONVIDADOS ESPECIAIS \nValor: R$ 45\,00\nIncluso: Almoço – Estacionamento – Coffee Break
URL:https://homenscomhonra.com.br/eventos/10encontrohomenscomhonra_araras/
LOCATION:Centro de Convivência da Terceira Idade – Araras\, Avenida José Ometto\, Araras\, SP\, 13607059\, Brasil
ATTACH;FMTTYPE=image/png:https://homenscomhonra.com.br/wp-content/uploads/2018/02/10encontroararas.png
ORGANIZER;CN="Homens%20Com%20Honra%20Araras":MAILTO:lcarvalh0@terra.com.br
END:VEVENT
BEGIN:VEVENT
DTSTART;TZID=UTC:20180303T083000
DTEND;TZID=UTC:20180303T180000
DTSTAMP:20260419T045355
CREATED:20180202T115514Z
LAST-MODIFIED:20180202T115514Z
UID:1906-1520065800-1520100000@homenscomhonra.com.br
SUMMARY:LEGADO - Encontro de Homens da Baixada Santista
DESCRIPTION:
URL:https://homenscomhonra.com.br/eventos/legado-encontro-de-homens-da-baixada-santista/
LOCATION:Colônia de Férias dos Vendedores\, Av. dos Sindicatos\, 1083\, Mirim\, Praia Grande\, São Paulo\, Brasil
ATTACH;FMTTYPE=image/jpeg:https://homenscomhonra.com.br/wp-content/uploads/2015/05/600X600.jpg
ORGANIZER;CN="Homens%20com%20Honra":MAILTO:contato@homenscomhonra.com.br
END:VEVENT
BEGIN:VEVENT
DTSTART;TZID=UTC:20170819T083000
DTEND;TZID=UTC:20170819T180000
DTSTAMP:20260419T045355
CREATED:20170523T131430Z
LAST-MODIFIED:20170803T163001Z
UID:1855-1503131400-1503165600@homenscomhonra.com.br
SUMMARY:6º Encontro Homens com Honra de Jundiaí
DESCRIPTION:Idade permitida à partir de 12 anos \nPRELETORES\nJorge Nishimura\nPaulo Gonçalves de Oliveira Jr.\nCapitão Joel \nCONVIDADOS ESPECIAIS \nValor: R$ 50\,00\nIncluso: Almoço – Estacionamento – Coffee Break
URL:https://homenscomhonra.com.br/eventos/6o-encontro-homens-com-honra-de-jundiai/
LOCATION:Parque da Uva Jundiaí\, Av. Jundiaí\, s/n\, Jundiaí\, São Paulo\, 13208051\, Brasil
ATTACH;FMTTYPE=image/jpeg:https://homenscomhonra.com.br/wp-content/uploads/2017/05/cartaz-a3-agosto-2017-1.jpg
END:VEVENT
BEGIN:VEVENT
DTSTART;TZID=UTC:20170715T083000
DTEND;TZID=UTC:20170715T170000
DTSTAMP:20260419T045355
CREATED:20170620T144847Z
LAST-MODIFIED:20170620T144847Z
UID:1868-1500107400-1500138000@homenscomhonra.com.br
SUMMARY:9º Encontro Homens com Honra - "Integridade"
DESCRIPTION:
URL:https://homenscomhonra.com.br/eventos/9o-encontro-homens-com-honra-integridade/
LOCATION:Clube da Saudade de Araras\, Rua Ângelo Franzini\, 2580\, Araras\, São Paulo\, 13609390\, Brasil
ATTACH;FMTTYPE=image/jpeg:https://homenscomhonra.com.br/wp-content/uploads/2017/06/homenscomhonra_evento.jpeg
ORGANIZER;CN="Homens%20Com%20Honra%20Araras":MAILTO:lcarvalh0@terra.com.br
END:VEVENT
BEGIN:VEVENT
DTSTART;TZID=UTC:20170527T080000
DTEND;TZID=UTC:20170527T160000
DTSTAMP:20260419T045355
CREATED:20170516T151649Z
LAST-MODIFIED:20170516T154339Z
UID:1845-1495872000-1495900800@homenscomhonra.com.br
SUMMARY:1º Homens com Honra em Mogi das Cruzes
DESCRIPTION:Homens\, dia 27 de Maio ocorrerá o Primeiro Encontro de Homens com Honra em Mogi das Cruzes. Venha fazer parte deste evento maravilhoso. \nConvite Especial aos homens que querem ser melhores pais\, melhores maridos\, melhores filhos\, melhores profissionais para melhorar o mundo em que vivemos. \nNão fique de fora\, faça agora mesmo a sua inscrição. \nMaiores informações: 11 9 9427-6878
URL:https://homenscomhonra.com.br/eventos/1o-homens-com-honra-em-mogi-das-cruzes/
LOCATION:Mogi das Cruzes\, Rodovia Mogi Taiaçupeba\, km 75\, Mogi das Cruzes\, São Paulo\, Brasil
ATTACH;FMTTYPE=image/jpeg:https://homenscomhonra.com.br/wp-content/uploads/2017/05/image004.jpg
END:VEVENT
BEGIN:VEVENT
DTSTART;TZID=America/Sao_Paulo:20170520T080000
DTEND;TZID=America/Sao_Paulo:20170520T180000
DTSTAMP:20260419T045355
CREATED:20170403T075713Z
LAST-MODIFIED:20170403T075713Z
UID:1621-1495267200-1495303200@homenscomhonra.com.br
SUMMARY:Encontro de Homens
DESCRIPTION:Dia 20 de Maio na igreja Batista Atitude ocorrerá o Encontro de Homens – Tenha Coragem. \nO horário será das 8:30 as 18:00h na Rua Sylvia da Rocha Polis\, 751 – Bairro da Tijuca – Rio de Janeiro – SP \nInscrições pelo site: https://www.e-inscricao.com/ibatitude/homenscomhonra-mai2017
URL:https://homenscomhonra.com.br/eventos/encontro-de-homens/
LOCATION:Igreja Batista Atitude\, Rua Sylvia da Rocha Polis\, 751\, Rio de Janeiro\, Rio de Janeiro\, 22793395\, Brasil
ATTACH;FMTTYPE=image/jpeg:https://homenscomhonra.com.br/wp-content/uploads/2017/04/9a64d0f2-27a3-4152-b44f-f150d4b79b84.jpeg
END:VEVENT
BEGIN:VEVENT
DTSTART;TZID=America/Sao_Paulo:20170311T080000
DTEND;TZID=America/Sao_Paulo:20170311T180000
DTSTAMP:20260419T045355
CREATED:20170403T080116Z
LAST-MODIFIED:20170403T080116Z
UID:1627-1489219200-1489255200@homenscomhonra.com.br
SUMMARY:5º Encontro Homens com Honra de Jundiaí
DESCRIPTION:
URL:https://homenscomhonra.com.br/eventos/5o-encontro-homens-com-honra-de-jundiai/
LOCATION:Parque da Uva Jundiaí\, Av. Jundiaí\, s/n\, Jundiaí\, São Paulo\, 13208051\, Brasil
ORGANIZER;CN="Homens%20com%20Honra":MAILTO:contato@homenscomhonra.com.br
END:VEVENT
BEGIN:VEVENT
DTSTART;TZID=America/Sao_Paulo:20160917T130000
DTEND;TZID=America/Sao_Paulo:20160917T190000
DTSTAMP:20260419T045355
CREATED:20170403T080329Z
LAST-MODIFIED:20170403T080329Z
UID:1628-1474117200-1474138800@homenscomhonra.com.br
SUMMARY:4º Encontro Homens com Honra de Jundiaí
DESCRIPTION:O 4º Encontro Homens com Honra de Jundiaí contará com a presença dos preletores: \nJorge Nishimura: Fundador da Universidade da Familia. \nMarcos Pohl:  Diretor Nacional no ministério Hombridade e Mulher Única. \nSebastião Dalmarco: Conferencista e Treinador de líderes \nClesio Pena: Conferencista e Treinador de líderes. \nNo já estão inclusos os cafés.\nO início será às 13:30h e o término às 19:00h. \nPara mais informações\, envie um e-mail para: contato@homenscomhonra.com.br
URL:https://homenscomhonra.com.br/eventos/4o-encontro-homens-com-honra-de-jundiai/
LOCATION:Parque da Uva Jundiaí\, Av. Jundiaí\, s/n\, Jundiaí\, São Paulo\, 13208051\, Brasil
ATTACH;FMTTYPE=image/jpeg:https://homenscomhonra.com.br/wp-content/uploads/2017/04/logo2607.jpg
ORGANIZER;CN="Homens%20com%20Honra":MAILTO:contato@homenscomhonra.com.br
END:VEVENT
BEGIN:VEVENT
DTSTART;TZID=America/Sao_Paulo:20160709T083000
DTEND;TZID=America/Sao_Paulo:20160709T180000
DTSTAMP:20260419T045355
CREATED:20170403T080740Z
LAST-MODIFIED:20170403T080740Z
UID:1634-1468053000-1468087200@homenscomhonra.com.br
SUMMARY:8° Encontro de Homens com Honra de Araras
DESCRIPTION:O 8º Encontro Homens com Honra de Araras contará com a presença dos preletores: \nPr Jame Nobre: Conferencista e Palestrante. \nJonatas Walker:  Conferencista e Palestrante. \nClesio Pena: Conferencista e Treinador de líderes. \nContribuição: R$ 35\,00 \nNo valor já estão inclusos os cafés.\nO início será às 08:30h e o término às 18:00h. \n  \nInscrições: Paulo Linguanote – paulo.linguanote@gmail.com \nTEL CONTATO: 19 3541-9876/ 98101-6991 \nBANCO DO BRASIL \nAG: 6508-0 \nC/C: 24457-0 \n  \nPara mais informações\, envie um e-mail para: andersomiranda@terra.com.br
URL:https://homenscomhonra.com.br/eventos/8-encontro-de-homens-com-honra-de-araras/
LOCATION:Clube da Saudade de Araras\, Rua Ângelo Franzini\, 2580\, Araras\, São Paulo\, 13609390\, Brasil
ATTACH;FMTTYPE=image/jpeg:https://homenscomhonra.com.br/wp-content/uploads/2017/04/HH-folder-araras.jpg
ORGANIZER;CN="Homens%20com%20Honra":MAILTO:contato@homenscomhonra.com.br
END:VEVENT
BEGIN:VEVENT
DTSTART;TZID=America/Sao_Paulo:20150530T080000
DTEND;TZID=America/Sao_Paulo:20150530T180000
DTSTAMP:20260419T045355
CREATED:20170403T081154Z
LAST-MODIFIED:20170403T081154Z
UID:1641-1432972800-1433008800@homenscomhonra.com.br
SUMMARY:1º Homens com Honra em Jundiaí
DESCRIPTION:Teremos o primeiro encontro  Homens com Honra em Jundiaí.\nSerão três palestrantes:\n– José Maria Gontijo – da Universidade da Família\n– João Staub – Pastor da cidade de Guarulhos\n– Coronel Alexandre Terra – Coordenador do PMs de Cristo do estado de SP \nNeste valor\, já estão inclusos cafés e almoço.\nO início será às 08:30h e o termino às 18:00h. \nInformações e inscrições: elnagumo@hotmail.com
URL:https://homenscomhonra.com.br/eventos/1o-homens-com-honra-em-jundiai/
LOCATION:ETEVAV\, Av. Eng. Tasso Pinheiro\, 700 \, Jundiaí\, São Paulo\, 13210-045\, Brasil
ORGANIZER;CN="Homens%20com%20Honra":MAILTO:contato@homenscomhonra.com.br
END:VEVENT
END:VCALENDAR